BEGIN:VCALENDAR
VERSION:2.0
PRODID:-//Kendo Dojo Yoshindō | 耀心堂 - ECPv6.15.15//NONSGML v1.0//EN
CALSCALE:GREGORIAN
METHOD:PUBLISH
X-ORIGINAL-URL:https://kendo.yoshindo.nl
X-WR-CALDESC:Evenementen voor Kendo Dojo Yoshindō | 耀心堂
REFRESH-INTERVAL;VALUE=DURATION:PT1H
X-Robots-Tag:noindex
X-PUBLISHED-TTL:PT1H
BEGIN:VTIMEZONE
TZID:Europe/Amsterdam
BEGIN:DAYLIGHT
TZOFFSETFROM:+0100
TZOFFSETTO:+0200
TZNAME:CEST
DTSTART:20260329T010000
END:DAYLIGHT
BEGIN:STANDARD
TZOFFSETFROM:+0200
TZOFFSETTO:+0100
TZNAME:CET
DTSTART:20261025T010000
END:STANDARD
BEGIN:DAYLIGHT
TZOFFSETFROM:+0100
TZOFFSETTO:+0200
TZNAME:CEST
DTSTART:20270328T010000
END:DAYLIGHT
BEGIN:STANDARD
TZOFFSETFROM:+0200
TZOFFSETTO:+0100
TZNAME:CET
DTSTART:20271031T010000
END:STANDARD
BEGIN:DAYLIGHT
TZOFFSETFROM:+0100
TZOFFSETTO:+0200
TZNAME:CEST
DTSTART:20280326T010000
END:DAYLIGHT
BEGIN:STANDARD
TZOFFSETFROM:+0200
TZOFFSETTO:+0100
TZNAME:CET
DTSTART:20281029T010000
END:STANDARD
END:VTIMEZONE
BEGIN:VEVENT
DTSTART;TZID=Europe/Amsterdam:20270101T200000
DTEND;TZID=Europe/Amsterdam:20270101T220000
DTSTAMP:20260422T094541
CREATED:20260207T114855Z
LAST-MODIFIED:20260207T115233Z
UID:10000239-1798833600-1798840800@kendo.yoshindo.nl
SUMMARY:Kendo training
DESCRIPTION:Wekelijkse kendo training voor Yoshind­ō abonnees.
URL:https://kendo.yoshindo.nl/events/kendo-training/2027-01-01/
LOCATION:Kendo dojo Yoshindo\, Kloostergaarde 12\, Schalkwijk\, Utrecht\, 3998 KD\, Netherlands
END:VEVENT
BEGIN:VEVENT
DTSTART;TZID=Europe/Amsterdam:20270108T200000
DTEND;TZID=Europe/Amsterdam:20270108T220000
DTSTAMP:20260422T094541
CREATED:20260207T114855Z
LAST-MODIFIED:20260207T115233Z
UID:10000240-1799438400-1799445600@kendo.yoshindo.nl
SUMMARY:Kendo training
DESCRIPTION:Wekelijkse kendo training voor Yoshind­ō abonnees.
URL:https://kendo.yoshindo.nl/events/kendo-training/2027-01-08/
LOCATION:Kendo dojo Yoshindo\, Kloostergaarde 12\, Schalkwijk\, Utrecht\, 3998 KD\, Netherlands
END:VEVENT
BEGIN:VEVENT
DTSTART;TZID=Europe/Amsterdam:20270115T200000
DTEND;TZID=Europe/Amsterdam:20270115T220000
DTSTAMP:20260422T094541
CREATED:20260207T114855Z
LAST-MODIFIED:20260207T115233Z
UID:10000241-1800043200-1800050400@kendo.yoshindo.nl
SUMMARY:Kendo training
DESCRIPTION:Wekelijkse kendo training voor Yoshind­ō abonnees.
URL:https://kendo.yoshindo.nl/events/kendo-training/2027-01-15/
LOCATION:Kendo dojo Yoshindo\, Kloostergaarde 12\, Schalkwijk\, Utrecht\, 3998 KD\, Netherlands
END:VEVENT
BEGIN:VEVENT
DTSTART;TZID=Europe/Amsterdam:20270122T200000
DTEND;TZID=Europe/Amsterdam:20270122T220000
DTSTAMP:20260422T094541
CREATED:20260207T114855Z
LAST-MODIFIED:20260207T115233Z
UID:10000242-1800648000-1800655200@kendo.yoshindo.nl
SUMMARY:Kendo training
DESCRIPTION:Wekelijkse kendo training voor Yoshind­ō abonnees.
URL:https://kendo.yoshindo.nl/events/kendo-training/2027-01-22/
LOCATION:Kendo dojo Yoshindo\, Kloostergaarde 12\, Schalkwijk\, Utrecht\, 3998 KD\, Netherlands
END:VEVENT
BEGIN:VEVENT
DTSTART;TZID=Europe/Amsterdam:20270129T200000
DTEND;TZID=Europe/Amsterdam:20270129T220000
DTSTAMP:20260422T094541
CREATED:20260207T114855Z
LAST-MODIFIED:20260207T115233Z
UID:10000243-1801252800-1801260000@kendo.yoshindo.nl
SUMMARY:Kendo training
DESCRIPTION:Wekelijkse kendo training voor Yoshind­ō abonnees.
URL:https://kendo.yoshindo.nl/events/kendo-training/2027-01-29/
LOCATION:Kendo dojo Yoshindo\, Kloostergaarde 12\, Schalkwijk\, Utrecht\, 3998 KD\, Netherlands
END:VEVENT
END:VCALENDAR